BEGIN:VCALENDAR
VERSION:2.0
PRODID:-//ZContent.net//ZapCalLib 1.0//EN
CALSCALE:GREGORIAN
METHOD:PUBLISH
BEGIN:VEVENT
SUMMARY:<strong>Sesja II<br />\nM</strong><strong>ożliwości poprawienia 
 rokowania chorych poza klasycznym leczeniem</strong>
DTSTART:20260305T103000
DTEND:20260305T122000
UID:<strong>Sesja II<br />\nM</strong><strong>ożliwości poprawienia roko
 wania chorych poza klasycznym leczeniem</strong>57290_1776694930
DTSTAMP:20260420T142210
Description:
END:VEVENT
END:VCALENDAR
