BEGIN:VCALENDAR
VERSION:2.0
PRODID:-//ZContent.net//ZapCalLib 1.0//EN
CALSCALE:GREGORIAN
METHOD:PUBLISH
BEGIN:VEVENT
SUMMARY:<strong>Sesja IV<br />\nDrobnokomórkowy rak płuca w erze immunote
 rapii</strong>
DTSTART:20260305T130500
DTEND:20260305T145500
UID:<strong>Sesja IV<br />\nDrobnokomórkowy rak płuca w erze immunoterapi
 i</strong>57303_1776695008
DTSTAMP:20260420T142328
Description:
END:VEVENT
END:VCALENDAR
