BEGIN:VCALENDAR
VERSION:2.0
PRODID:-//ZContent.net//ZapCalLib 1.0//EN
CALSCALE:GREGORIAN
METHOD:PUBLISH
BEGIN:VEVENT
SUMMARY:<strong>Sesja IX<br />\nPorozmawiajmy o nas — styl życia onkolog
 ów pod lupą (Sesja Sekcji Raka Piersi PTOK)</strong>
DTSTART:20260306T111500
DTEND:20260306T130500
UID:<strong>Sesja IX<br />\nPorozmawiajmy o nas — styl życia onkologów 
 pod lupą (Sesja Sekcji Raka Piersi PTOK)</strong>57344_1776695117
DTSTAMP:20260420T142517
Description:
END:VEVENT
END:VCALENDAR
