BEGIN:VCALENDAR
VERSION:2.0
PRODID:-//ZContent.net//ZapCalLib 1.0//EN
CALSCALE:GREGORIAN
METHOD:PUBLISH
BEGIN:VEVENT
SUMMARY:<strong>Sesja XI<br />\nZmiany w postępowaniu u chorych na czernia
 ki</strong>
DTSTART:20260306T141500
DTEND:20260306T160500
UID:<strong>Sesja XI<br />\nZmiany w postępowaniu u chorych na czerniaki</
 strong>57356_1776694836
DTSTAMP:20260420T142036
Description:
END:VEVENT
END:VCALENDAR
