BEGIN:VCALENDAR
VERSION:2.0
PRODID:-//ZContent.net//ZapCalLib 1.0//EN
CALSCALE:GREGORIAN
METHOD:PUBLISH
BEGIN:VEVENT
SUMMARY:<strong>Sesja XIV <br />\nImmunoterapia w okołooperacyjnym leczen
 iu chorych na niedrobnokomórkowego raka płuca</strong>
DTSTART:20260307T085000
DTEND:20260307T104000
UID:<strong>Sesja XIV <br />\nImmunoterapia w okołooperacyjnym leczeniu c
 horych na niedrobnokomórkowego raka płuca</strong>57389_1776695014
DTSTAMP:20260420T142334
Description:
END:VEVENT
END:VCALENDAR
