BEGIN:VCALENDAR
VERSION:2.0
PRODID:-//ZContent.net//ZapCalLib 1.0//EN
CALSCALE:GREGORIAN
METHOD:PUBLISH
BEGIN:VEVENT
SUMMARY:<strong>Sesja sponsorowana przez firmę GSK:<br />\nOd diagnozy do 
 remisji — blaski i cienie ścieżek pacjentek z rakiem endometrium w Pol
 sce</strong>
DTSTART:20260305T170000
DTEND:20260305T182500
UID:<strong>Sesja sponsorowana przez firmę GSK:<br />\nOd diagnozy do remi
 sji — blaski i cienie ścieżek pacjentek z rakiem endometrium w Polsce<
 /strong>57584_1776694904
DTSTAMP:20260420T142144
Description:
END:VEVENT
END:VCALENDAR
