BEGIN:VCALENDAR
VERSION:2.0
PRODID:-//ZContent.net//ZapCalLib 1.0//EN
CALSCALE:GREGORIAN
METHOD:PUBLISH
BEGIN:VEVENT
SUMMARY:Sesja sponsorowana przez firmę Abbvie:<br />\nMirwetuksymab sorawt
 anzyna w leczeniu pacjentek z PROC: sprawdzone strategie i wnioski z prakt
 yki klinicznej
DTSTART:20260305T085000
DTEND:20260305T103000
UID:Sesja sponsorowana przez firmę Abbvie:<br />\nMirwetuksymab sorawtanzy
 na w leczeniu pacjentek z PROC: sprawdzone strategie i wnioski z praktyki 
 klinicznej59582_1776694987
DTSTAMP:20260420T142307
Description:
END:VEVENT
END:VCALENDAR
